BEGIN:VCALENDAR
VERSION:2.0
PRODID:-//Ebatco - ECPv6.15.20//NONSGML v1.0//EN
CALSCALE:GREGORIAN
METHOD:PUBLISH
X-WR-CALNAME:Ebatco
X-ORIGINAL-URL:https://www.ebatco.com
X-WR-CALDESC:Events for Ebatco
REFRESH-INTERVAL;VALUE=DURATION:PT1H
X-Robots-Tag:noindex
X-PUBLISHED-TTL:PT1H
BEGIN:VTIMEZONE
TZID:America/Chicago
BEGIN:DAYLIGHT
TZOFFSETFROM:-0600
TZOFFSETTO:-0500
TZNAME:CDT
DTSTART:20160313T080000
END:DAYLIGHT
BEGIN:STANDARD
TZOFFSETFROM:-0500
TZOFFSETTO:-0600
TZNAME:CST
DTSTART:20161106T070000
END:STANDARD
BEGIN:DAYLIGHT
TZOFFSETFROM:-0600
TZOFFSETTO:-0500
TZNAME:CDT
DTSTART:20170312T080000
END:DAYLIGHT
BEGIN:STANDARD
TZOFFSETFROM:-0500
TZOFFSETTO:-0600
TZNAME:CST
DTSTART:20171105T070000
END:STANDARD
BEGIN:DAYLIGHT
TZOFFSETFROM:-0600
TZOFFSETTO:-0500
TZNAME:CDT
DTSTART:20180311T080000
END:DAYLIGHT
BEGIN:STANDARD
TZOFFSETFROM:-0500
TZOFFSETTO:-0600
TZNAME:CST
DTSTART:20181104T070000
END:STANDARD
BEGIN:DAYLIGHT
TZOFFSETFROM:-0600
TZOFFSETTO:-0500
TZNAME:CDT
DTSTART:20190310T080000
END:DAYLIGHT
BEGIN:STANDARD
TZOFFSETFROM:-0500
TZOFFSETTO:-0600
TZNAME:CST
DTSTART:20191103T070000
END:STANDARD
BEGIN:DAYLIGHT
TZOFFSETFROM:-0600
TZOFFSETTO:-0500
TZNAME:CDT
DTSTART:20200308T080000
END:DAYLIGHT
BEGIN:STANDARD
TZOFFSETFROM:-0500
TZOFFSETTO:-0600
TZNAME:CST
DTSTART:20201101T070000
END:STANDARD
BEGIN:DAYLIGHT
TZOFFSETFROM:-0600
TZOFFSETTO:-0500
TZNAME:CDT
DTSTART:20210314T080000
END:DAYLIGHT
BEGIN:STANDARD
TZOFFSETFROM:-0500
TZOFFSETTO:-0600
TZNAME:CST
DTSTART:20211107T070000
END:STANDARD
BEGIN:DAYLIGHT
TZOFFSETFROM:-0600
TZOFFSETTO:-0500
TZNAME:CDT
DTSTART:20220313T080000
END:DAYLIGHT
BEGIN:STANDARD
TZOFFSETFROM:-0500
TZOFFSETTO:-0600
TZNAME:CST
DTSTART:20221106T070000
END:STANDARD
BEGIN:DAYLIGHT
TZOFFSETFROM:-0600
TZOFFSETTO:-0500
TZNAME:CDT
DTSTART:20230312T080000
END:DAYLIGHT
BEGIN:STANDARD
TZOFFSETFROM:-0500
TZOFFSETTO:-0600
TZNAME:CST
DTSTART:20231105T070000
END:STANDARD
BEGIN:DAYLIGHT
TZOFFSETFROM:-0600
TZOFFSETTO:-0500
TZNAME:CDT
DTSTART:20240310T080000
END:DAYLIGHT
BEGIN:STANDARD
TZOFFSETFROM:-0500
TZOFFSETTO:-0600
TZNAME:CST
DTSTART:20241103T070000
END:STANDARD
BEGIN:DAYLIGHT
TZOFFSETFROM:-0600
TZOFFSETTO:-0500
TZNAME:CDT
DTSTART:20250309T080000
END:DAYLIGHT
BEGIN:STANDARD
TZOFFSETFROM:-0500
TZOFFSETTO:-0600
TZNAME:CST
DTSTART:20251102T070000
END:STANDARD
BEGIN:DAYLIGHT
TZOFFSETFROM:-0600
TZOFFSETTO:-0500
TZNAME:CDT
DTSTART:20260308T080000
END:DAYLIGHT
BEGIN:STANDARD
TZOFFSETFROM:-0500
TZOFFSETTO:-0600
TZNAME:CST
DTSTART:20261101T070000
END:STANDARD
END:VTIMEZONE
BEGIN:VTIMEZONE
TZID:UTC
BEGIN:STANDARD
TZOFFSETFROM:+0000
TZOFFSETTO:+0000
TZNAME:UTC
DTSTART:20160101T000000
END:STANDARD
END:VTIMEZONE
BEGIN:VEVENT
DTSTART;TZID=America/Chicago:20251111T100000
DTEND;TZID=America/Chicago:20251111T230000
DTSTAMP:20260423T105119
CREATED:20251013T170820Z
LAST-MODIFIED:20251014T170439Z
UID:16880-1762855200-1762902000@www.ebatco.com
SUMMARY:Failure Analysis in Metallic Materials and Coatings TechA Webinar
DESCRIPTION:
URL:https://www.ebatco.com/event/failure-analysis-in-metallic-materials-and-coatings-techa-webinar/
LOCATION:Online
END:VEVENT
BEGIN:VEVENT
DTSTART;TZID=America/Chicago:20251021T100000
DTEND;TZID=America/Chicago:20251022T160000
DTSTAMP:20260423T105119
CREATED:20250922T203638Z
LAST-MODIFIED:20251015T150346Z
UID:16648-1761040800-1761148800@www.ebatco.com
SUMMARY:October 21 - 22 MD&M Midwest
DESCRIPTION:Booth #2528\, Minneapolis Convention Center\, Minneapolis\, MN.
URL:https://www.ebatco.com/event/october-21-22-mdm-midwest/
END:VEVENT
BEGIN:VEVENT
DTSTART;TZID=America/Chicago:20241016T080000
DTEND;TZID=America/Chicago:20241017T170000
DTSTAMP:20260423T105119
CREATED:20240521T214940Z
LAST-MODIFIED:20240521T215456Z
UID:15207-1729065600-1729184400@www.ebatco.com
SUMMARY:October 16-17 – MD&M Minneapolis
DESCRIPTION:Booth #2838\, Minneapolis Convention Center\, Minneapolis\, MN.
URL:https://www.ebatco.com/event/october-16-17-mdm-minneapolis/
ATTACH;FMTTYPE=image/png:https://www.ebatco.com/wp-content/uploads/2024/05/md-and-m.png
END:VEVENT
BEGIN:VEVENT
DTSTART;TZID=America/Chicago:20240917T090000
DTEND;TZID=America/Chicago:20240917T163000
DTSTAMP:20260423T105119
CREATED:20240826T184324Z
LAST-MODIFIED:20240904T195143Z
UID:15290-1726563600-1726590600@www.ebatco.com
SUMMARY:EBATCO ANNOUNCES JOINT WORKSHOP BY EBATCO AND ANTON PAAR USA VISCOSITY AND BEYOND: IMPROVE PRODUCT QUALITY WITH MODERN RHEOLOGY
DESCRIPTION:Eden Prairie\, MN\, August 23rd\, 2024 – Ebatco announces joint workshop with Anton Paar USA on “Viscosity and Beyond: Improve Product Quality with Moden Rheology” scheduled on September 17th\, 2024 at Ebatco Headquarters in Eden Prairie\, MN\, USA. This workshop will include presentations on the principles of rheology and their industrial applications\, live demonstrations and small group sessions where attendees will experience hands-on sample testing. \nKey takeaways:\n• Introduction to Rheology: Gain a comprehensive overview of rheological principles\, including flow and deformation properties.\n• Hands-on experience: Enjoy live demonstrations of Anton Paar’s rheological hardware and software. See firsthand how these instruments measure and analyze material properties\, and gain insights into their operation and data interpretation.\n• Expert talks: Hear from leading rheology experts who will share their knowledge on practical and theorical rheology techniques. \nWho should attend:\nThis seminar is designed for researchers\, engineers\, and industry professionals interested in understanding the flow and deformation properties of various materials. \nDate: Tuesday\, September 17\, 2024\, 9:00am – 4:30pm\nCost: Free of Charge\nLocation: Ebatco\, 10025 Valley View Road\, Suite 150\, Eden Prairie\, MN 55344\nLink: Additional Information and Registration\nContact person and registration:\nMary Franck\nTel.: +1 804-550-1051 Ext. 302\nEmail: mary.franck@anton-paar.com \nAbout Ebatco\nEbatco is a nanotechnology service and development company. Ebatco delivers one-stop-shop solutions for your challenges through customer-admired analytical lab services\, expert-level technical consultation\, custom R&D and first-class scientific instruments. \nEbatco provides advanced and critical analyses\, measurements and tests of materials and devices at nano\, micro and macroscales. Our consulting and contract lab services support worldwide customers in R&D\, new products and process optimization\, failure analysis\, part performance verifications\, regulatory compliance tests\, legal investigations and expert witness\, and contamination and unknown identification. By offering cutting-edge technologies\, using state-of-the-art instruments\, combined with years of experience and professional knowledge\, Ebatco serves as your springboard for your market dominance\, your assurance for customer satisfaction on your products\, your accelerator for your product launch\, your assistant for your cost reduction and your reliable resource for your legal investigation. Your complete satisfaction is our commitment and guarantee. \nEbatco’s ISO/IEC 17025:2017 accredited lab services span chemical\, mechanical\, metallurgical physical\, thermal\, tribological and surface/interface fields.
URL:https://www.ebatco.com/event/ebatco-announces-joint-workshop-by-ebatco-and-anton-paar-usa-viscosity-and-beyond-improve-product-quality-with-modern-rheology/
LOCATION:Ebatco Headquarters\, Eden Prairie\, MN\, United States
END:VEVENT
BEGIN:VEVENT
DTSTART;TZID=America/Chicago:20240709T080000
DTEND;TZID=America/Chicago:20240711T170000
DTSTAMP:20260423T105119
CREATED:20240521T214835Z
LAST-MODIFIED:20240521T215554Z
UID:15205-1720512000-1720717200@www.ebatco.com
SUMMARY:July 9-11 – SEMICON West
DESCRIPTION:Booth #6810\, Moscone Center\, San Francisco\, CA.
URL:https://www.ebatco.com/event/july-9-11-semicon-west/
ATTACH;FMTTYPE=image/png:https://www.ebatco.com/wp-content/uploads/2024/05/semicon.png
END:VEVENT
BEGIN:VEVENT
DTSTART;TZID=America/Chicago:20240519T080000
DTEND;TZID=America/Chicago:20240523T170000
DTSTAMP:20260423T105119
CREATED:20240521T214711Z
LAST-MODIFIED:20240521T215656Z
UID:15203-1716105600-1716483600@www.ebatco.com
SUMMARY:May 19-23 – STLE Annual Meeting and Exhibition
DESCRIPTION:Booth #609\, Minneapolis Convention Center\, Minneapolis\, MN.
URL:https://www.ebatco.com/event/may-19-23-stle-annual-meeting-and-exhibition/
ATTACH;FMTTYPE=image/png:https://www.ebatco.com/wp-content/uploads/2024/05/minnesota-event.png
END:VEVENT
BEGIN:VEVENT
DTSTART;TZID=America/Chicago:20240504T080000
DTEND;TZID=America/Chicago:20240509T170000
DTSTAMP:20260423T105119
CREATED:20240521T214552Z
LAST-MODIFIED:20240521T214552Z
UID:15201-1714809600-1715274000@www.ebatco.com
SUMMARY:May 4-9 – SVC Technical Conference
DESCRIPTION:Booth #918\, Hilton Chicago\, Chicago\, IL.
URL:https://www.ebatco.com/event/may-4-9-svc-technical-conference/
END:VEVENT
BEGIN:VEVENT
DTSTART;TZID=America/Chicago:20240430T080000
DTEND;TZID=America/Chicago:20240502T170000
DTSTAMP:20260423T105119
CREATED:20240521T214514Z
LAST-MODIFIED:20240521T214514Z
UID:15199-1714464000-1714669200@www.ebatco.com
SUMMARY:April 30-May 2 – American Coatings Show and Conference\, Booth #217
DESCRIPTION:Indiana Convention Center\, Indianapolis\, IN\, representing Kyowa Interface Science Co. Ltd.
URL:https://www.ebatco.com/event/april-30-may-2-american-coatings-show-and-conference-booth-217/
END:VEVENT
BEGIN:VEVENT
DTSTART;TZID=America/Chicago:20240419T080000
DTEND;TZID=America/Chicago:20240419T170000
DTSTAMP:20260423T105119
CREATED:20240521T214218Z
LAST-MODIFIED:20240521T214336Z
UID:15196-1713513600-1713546000@www.ebatco.com
SUMMARY:April 19 – Minnesota Microscopy Society Spring Symposium: Super Resolution and Beyond
DESCRIPTION:Minnesota Landscape Arboretum\, Chaska\, MN.
URL:https://www.ebatco.com/event/april-19-minnesota-microscopy-society-spring-symposium-super-resolution-and-beyond/
END:VEVENT
BEGIN:VEVENT
DTSTART;TZID=America/Chicago:20240321T080000
DTEND;TZID=America/Chicago:20240321T170000
DTSTAMP:20260423T105119
CREATED:20240521T214126Z
LAST-MODIFIED:20240521T214403Z
UID:15194-1711008000-1711040400@www.ebatco.com
SUMMARY:March 21 – ASM International MN Chapter 2024 Symposium: Materials Failure Analysis
DESCRIPTION:Hennepin Technical College\, Brooklyn Park\, MN. Ebatco President Dr. Dehua Yang will present “Microstructural Failure Analysis of Fractured Metallic Materials”.
URL:https://www.ebatco.com/event/march-21-asm-international-mn-chapter-2024-symposium-materials-failure-analysis/
END:VEVENT
BEGIN:VEVENT
DTSTART;TZID=America/Chicago:20171105T080000
DTEND;TZID=America/Chicago:20171109T170000
DTSTAMP:20260423T105119
CREATED:20170710T154751Z
LAST-MODIFIED:20170710T154751Z
UID:11767-1509868800-1510246800@www.ebatco.com
SUMMARY:International Symposium for Testing and Failure Analysis 2017
DESCRIPTION:
URL:https://www.ebatco.com/event/international-symposium-testing-failure-analysis-2017/
LOCATION:Pasadena Convention Center\, 300 East Green Street\, Pasadena\, CA\, 91101\, United States
ATTACH;FMTTYPE=image/png:https://www.ebatco.com/wp-content/uploads/2013/12/ISTFA-2017.png
END:VEVENT
BEGIN:VEVENT
DTSTART;VALUE=DATE:20171009
DTEND;VALUE=DATE:20171013
DTSTAMP:20260423T105119
CREATED:20170504T191628Z
LAST-MODIFIED:20170504T191628Z
UID:11681-1507507200-1507852799@www.ebatco.com
SUMMARY:Materials Science & Technology 2017
DESCRIPTION:
URL:https://www.ebatco.com/event/materials-science-technology-2017/
LOCATION:David L. Lawrence Convention Center\, Pittsburgh\, PA\, United States
ATTACH;FMTTYPE=image/png:https://www.ebatco.com/wp-content/uploads/2013/12/Screen-Shot-2017-05-04-at-8.06.13-AM.png
END:VEVENT
BEGIN:VEVENT
DTSTART;VALUE=DATE:20171002
DTEND;VALUE=DATE:20171005
DTSTAMP:20260423T105119
CREATED:20170504T191505Z
LAST-MODIFIED:20170504T191505Z
UID:11679-1506902400-1507161599@www.ebatco.com
SUMMARY:BioInterface Workshop & Symposium
DESCRIPTION:
URL:https://www.ebatco.com/event/biointerface-workshop-symposium/
LOCATION:Catamarran Resort\, San Diego\, CA\, United States
ATTACH;FMTTYPE=image/png:https://www.ebatco.com/wp-content/uploads/2013/12/Screen-Shot-2017-05-04-at-8.06.04-AM.png
END:VEVENT
BEGIN:VEVENT
DTSTART;VALUE=DATE:20170628
DTEND;VALUE=DATE:20170629
DTSTAMP:20260423T105119
CREATED:20170504T191348Z
LAST-MODIFIED:20170504T191348Z
UID:11677-1498608000-1498694399@www.ebatco.com
SUMMARY:Ebatco 10 Year Anniversary Open House
DESCRIPTION:
URL:https://www.ebatco.com/event/ebatco-10-year-anniversary-open-house/
LOCATION:Ebatco Headquarters\, Eden Prairie\, MN\, United States
ATTACH;FMTTYPE=image/png:https://www.ebatco.com/wp-content/uploads/2013/12/Screen-Shot-2017-05-04-at-8.05.55-AM.png
END:VEVENT
BEGIN:VEVENT
DTSTART;TZID=UTC:20170504T083000
DTEND;TZID=UTC:20170504T154500
DTSTAMP:20260423T105119
CREATED:20170504T191227Z
LAST-MODIFIED:20170504T191227Z
UID:11675-1493886600-1493912700@www.ebatco.com
SUMMARY:Minnesota Microscopy Society Spring Symposium
DESCRIPTION:
URL:https://www.ebatco.com/event/minnesota-microscopy-society-spring-symposium/
LOCATION:Minnesota Science Museum\, St. Paul\, MN\, United States
ATTACH;FMTTYPE=image/png:https://www.ebatco.com/wp-content/uploads/2013/12/Screen-Shot-2017-05-04-at-8.05.46-AM.png
END:VEVENT
BEGIN:VEVENT
DTSTART;VALUE=DATE:20170429
DTEND;VALUE=DATE:20170505
DTSTAMP:20260423T105119
CREATED:20170504T191111Z
LAST-MODIFIED:20170504T191111Z
UID:11673-1493424000-1493942399@www.ebatco.com
SUMMARY:Society of Vacuum Coatings TechCon
DESCRIPTION:
URL:https://www.ebatco.com/event/society-of-vacuum-coatings-techcon/
LOCATION:Rhode Island Convention Center\, Providence\, RI\, United States
ATTACH;FMTTYPE=image/png:https://www.ebatco.com/wp-content/uploads/2013/12/Screen-Shot-2017-05-04-at-8.05.34-AM.png
END:VEVENT
BEGIN:VEVENT
DTSTART;TZID=UTC:20170226T080000
DTEND;TZID=UTC:20170301T170000
DTSTAMP:20260423T105119
CREATED:20170504T190950Z
LAST-MODIFIED:20170504T190950Z
UID:11671-1488096000-1488387600@www.ebatco.com
SUMMARY:40th Annual Adhesion Society Meeting
DESCRIPTION:
URL:https://www.ebatco.com/event/40th-annual-adhesion-society-meeting/
LOCATION:Hilton St. Petersburg Bayfront\, St. Petersburg\, FL\, United States
ATTACH;FMTTYPE=image/png:https://www.ebatco.com/wp-content/uploads/2013/12/Screen-Shot-2017-05-04-at-8.05.16-AM.png
END:VEVENT
BEGIN:VEVENT
DTSTART;TZID=UTC:20170222T080000
DTEND;TZID=UTC:20170222T160000
DTSTAMP:20260423T105119
CREATED:20170504T190404Z
LAST-MODIFIED:20170504T190754Z
UID:11662-1487750400-1487779200@www.ebatco.com
SUMMARY:ASM International Minnesota Chapter Seminar
DESCRIPTION:
URL:https://www.ebatco.com/event/asm-international-minnesota-chapter-seminar/
LOCATION:Hennepin Technical College\, Brooklyn Park\, MN\, United States
ATTACH;FMTTYPE=image/png:https://www.ebatco.com/wp-content/uploads/2013/12/Screen-Shot-2017-05-04-at-8.05.06-AM.png
END:VEVENT
END:VCALENDAR